Package: cellmigRation Version: 1.0.0 Command: chmod a+r cellmigRation -R && C:\Users\biocbuild\bbs-3.13-bioc\R\bin\R.exe CMD build --keep-empty-dirs --no-resave-data cellmigRation StartedAt: 2021-10-14 12:37:02 -0400 (Thu, 14 Oct 2021) EndedAt: 2021-10-14 12:40:17 -0400 (Thu, 14 Oct 2021) EllapsedTime: 195.7 seconds RetCode: 0 Status: OK PackageFile: cellmigRation_1.0.0.tar.gz PackageFileSize: 919.3 KiB