Package: censcyt Version: 1.0.0 Command: /Library/Frameworks/R.framework/Versions/Current/Resources/bin/R CMD INSTALL censcyt StartedAt: 2021-10-14 10:27:59 -0400 (Thu, 14 Oct 2021) EndedAt: 2021-10-14 10:28:27 -0400 (Thu, 14 Oct 2021) EllapsedTime: 28.8 seconds RetCode: 0 Status: OK