Package: censcyt Version: 1.0.0 Command: chmod a+r censcyt -R && C:\Users\biocbuild\bbs-3.13-bioc\R\bin\R.exe CMD build --keep-empty-dirs --no-resave-data censcyt StartedAt: 2021-10-14 12:39:42 -0400 (Thu, 14 Oct 2021) EndedAt: 2021-10-14 12:41:48 -0400 (Thu, 14 Oct 2021) EllapsedTime: 126.0 seconds RetCode: 0 Status: OK PackageFile: censcyt_1.0.0.tar.gz PackageFileSize: 344.8 KiB