Package: censcyt Version: 1.0.0 Command: C:\Users\biocbuild\bbs-3.13-bioc\R\bin\R.exe CMD check --force-multiarch --install=check:censcyt.install-out.txt --library=C:\Users\biocbuild\bbs-3.13-bioc\R\library --no-vignettes --timings censcyt_1.0.0.tar.gz StartedAt: 2021-10-14 20:52:15 -0400 (Thu, 14 Oct 2021) EndedAt: 2021-10-14 20:59:47 -0400 (Thu, 14 Oct 2021) EllapsedTime: 452.1 seconds RetCode: 0 Status: OK CheckDir: censcyt.Rcheck Warnings: 0