Package: cghMCR Version: 1.50.0 Command: rm -rf cghMCR.buildbin-libdir && mkdir cghMCR.buildbin-libdir && /Users/biocbuild/BBS/utils/build-universal.sh cghMCR_1.50.0.tar.gz /Library/Frameworks/R.framework/Versions/Current/Resources/bin/R cghMCR.buildbin-libdir StartedAt: 2021-10-15 01:53:44 -0400 (Fri, 15 Oct 2021) EndedAt: 2021-10-15 01:54:53 -0400 (Fri, 15 Oct 2021) EllapsedTime: 69.3 seconds RetCode: 0 Status: OK PackageFile: cghMCR_1.50.0.tgz PackageFileSize: 36.97 MiB