Package: cghMCR Version: 1.50.0 Command: /Library/Frameworks/R.framework/Versions/Current/Resources/bin/R CMD build --keep-empty-dirs --no-resave-data cghMCR StartedAt: 2021-10-14 11:09:38 -0400 (Thu, 14 Oct 2021) EndedAt: 2021-10-14 11:11:04 -0400 (Thu, 14 Oct 2021) EllapsedTime: 85.5 seconds RetCode: 0 Status: OK PackageFile: cghMCR_1.50.0.tar.gz PackageFileSize: 36.04 MiB