Package: cghMCR Version: 1.50.0 Command: /Library/Frameworks/R.framework/Versions/Current/Resources/bin/R CMD check --install=check:cghMCR.install-out.txt --library=/Library/Frameworks/R.framework/Versions/Current/Resources/library --no-vignettes --timings cghMCR_1.50.0.tar.gz StartedAt: 2021-10-14 17:15:50 -0400 (Thu, 14 Oct 2021) EndedAt: 2021-10-14 17:18:54 -0400 (Thu, 14 Oct 2021) EllapsedTime: 183.5 seconds RetCode: 0 Status: WARNINGS CheckDir: cghMCR.Rcheck Warnings: 1