Package: chipseq Version: 1.42.0 Command: rm -rf chipseq.buildbin-libdir && mkdir chipseq.buildbin-libdir && /Users/biocbuild/BBS/utils/build-universal.sh chipseq_1.42.0.tar.gz /Library/Frameworks/R.framework/Versions/Current/Resources/bin/R chipseq.buildbin-libdir StartedAt: 2021-10-15 01:55:10 -0400 (Fri, 15 Oct 2021) EndedAt: 2021-10-15 01:56:09 -0400 (Fri, 15 Oct 2021) EllapsedTime: 58.3 seconds RetCode: 0 Status: OK PackageFile: chipseq_1.42.0.tgz PackageFileSize: 2.205 MiB