Package: chipseq Version: 1.42.0 Command: /Library/Frameworks/R.framework/Versions/Current/Resources/bin/R CMD check --install=check:chipseq.install-out.txt --library=/Library/Frameworks/R.framework/Versions/Current/Resources/library --no-vignettes --timings chipseq_1.42.0.tar.gz StartedAt: 2021-10-14 17:20:04 -0400 (Thu, 14 Oct 2021) EndedAt: 2021-10-14 17:24:08 -0400 (Thu, 14 Oct 2021) EllapsedTime: 244.5 seconds RetCode: 0 Status: WARNINGS CheckDir: chipseq.Rcheck Warnings: 3