Package: chipseq Version: 1.42.0 Command: /Library/Frameworks/R.framework/Versions/Current/Resources/bin/R CMD INSTALL chipseq StartedAt: 2021-10-14 09:08:13 -0400 (Thu, 14 Oct 2021) EndedAt: 2021-10-14 09:08:56 -0400 (Thu, 14 Oct 2021) EllapsedTime: 43.6 seconds RetCode: 0 Status: OK