Package: chipseq Version: 1.42.0 Command: /home/biocbuild/bbs-3.13-bioc/R/bin/R CMD build --keep-empty-dirs --no-resave-data chipseq StartedAt: 2021-10-14 06:55:37 -0400 (Thu, 14 Oct 2021) EndedAt: 2021-10-14 06:58:17 -0400 (Thu, 14 Oct 2021) EllapsedTime: 160.5 seconds RetCode: 0 Status: OK PackageFile: chipseq_1.42.0.tar.gz PackageFileSize: 2.143 MiB