Package: chipseq Version: 1.42.0 Command: /home/biocbuild/bbs-3.13-bioc/R/bin/R CMD INSTALL chipseq StartedAt: 2021-10-14 06:13:18 -0400 (Thu, 14 Oct 2021) EndedAt: 2021-10-14 06:13:42 -0400 (Thu, 14 Oct 2021) EllapsedTime: 24.3 seconds RetCode: 0 Status: OK