Package: chipseq Version: 1.42.0 Command: rm -rf chipseq.buildbin-libdir && mkdir chipseq.buildbin-libdir && C:\Users\biocbuild\bbs-3.13-bioc\R\bin\R.exe CMD INSTALL --merge-multiarch --build --library=chipseq.buildbin-libdir chipseq_1.42.0.tar.gz StartedAt: 2021-10-15 08:32:31 -0400 (Fri, 15 Oct 2021) EndedAt: 2021-10-15 08:33:38 -0400 (Fri, 15 Oct 2021) EllapsedTime: 67.3 seconds RetCode: 0 Status: OK PackageFile: chipseq_1.42.0.zip PackageFileSize: 2.254 MiB