Package: chipseq Version: 1.42.0 Command: C:\cygwin\bin\curl.exe -O http://155.52.207.165/BBS/3.13/bioc/src/contrib/chipseq_1.42.0.tar.gz && rm -rf chipseq.buildbin-libdir && mkdir chipseq.buildbin-libdir && C:\Users\biocbuild\bbs-3.13-bioc\R\bin\R.exe CMD INSTALL --merge-multiarch --build --library=chipseq.buildbin-libdir chipseq_1.42.0.tar.gz && C:\Users\biocbuild\bbs-3.13-bioc\R\bin\R.exe CMD INSTALL chipseq_1.42.0.zip && rm chipseq_1.42.0.tar.gz chipseq_1.42.0.zip StartedAt: 2021-10-14 08:48:56 -0400 (Thu, 14 Oct 2021) EndedAt: 2021-10-14 08:49:48 -0400 (Thu, 14 Oct 2021) EllapsedTime: 51.6 seconds RetCode: 0 Status: OK