Package: chromPlot Version: 1.20.0 Command: /home/biocbuild/bbs-3.13-bioc/R/bin/R CMD check --install=check:chromPlot.install-out.txt --library=/home/biocbuild/bbs-3.13-bioc/R/library --no-vignettes --timings chromPlot_1.20.0.tar.gz StartedAt: 2021-10-14 09:14:48 -0400 (Thu, 14 Oct 2021) EndedAt: 2021-10-14 09:16:34 -0400 (Thu, 14 Oct 2021) EllapsedTime: 105.7 seconds RetCode: 0 Status: OK CheckDir: chromPlot.Rcheck Warnings: 0