Package: chromVAR Version: 1.14.0 Command: rm -rf chromVAR.buildbin-libdir && mkdir chromVAR.buildbin-libdir && /Users/biocbuild/BBS/utils/build-universal.sh chromVAR_1.14.0.tar.gz /Library/Frameworks/R.framework/Versions/Current/Resources/bin/R chromVAR.buildbin-libdir StartedAt: 2021-10-15 01:56:09 -0400 (Fri, 15 Oct 2021) EndedAt: 2021-10-15 01:58:18 -0400 (Fri, 15 Oct 2021) EllapsedTime: 129.2 seconds RetCode: 0 Status: OK PackageFile: chromVAR_1.14.0.tgz PackageFileSize: 1.79 MiB