Package: chromVAR Version: 1.14.0 Command: rm -rf chromVAR.buildbin-libdir && mkdir chromVAR.buildbin-libdir && C:\Users\biocbuild\bbs-3.13-bioc\R\bin\R.exe CMD INSTALL --merge-multiarch --build --library=chromVAR.buildbin-libdir chromVAR_1.14.0.tar.gz StartedAt: 2021-10-15 08:33:47 -0400 (Fri, 15 Oct 2021) EndedAt: 2021-10-15 08:36:49 -0400 (Fri, 15 Oct 2021) EllapsedTime: 182.4 seconds RetCode: 0 Status: OK PackageFile: chromVAR_1.14.0.zip PackageFileSize: 2.516 MiB