Package: chromVAR Version: 1.14.0 Command: chmod a+r chromVAR -R && C:\Users\biocbuild\bbs-3.13-bioc\R\bin\R.exe CMD build --keep-empty-dirs --no-resave-data chromVAR StartedAt: 2021-10-14 12:48:11 -0400 (Thu, 14 Oct 2021) EndedAt: 2021-10-14 12:52:29 -0400 (Thu, 14 Oct 2021) EllapsedTime: 258.8 seconds RetCode: 0 Status: OK PackageFile: chromVAR_1.14.0.tar.gz PackageFileSize: 559.1 KiB