Package: chromVAR Version: 1.14.0 Command: C:\cygwin\bin\curl.exe -O http://155.52.207.165/BBS/3.13/bioc/src/contrib/chromVAR_1.14.0.tar.gz && rm -rf chromVAR.buildbin-libdir && mkdir chromVAR.buildbin-libdir && C:\Users\biocbuild\bbs-3.13-bioc\R\bin\R.exe CMD INSTALL --merge-multiarch --build --library=chromVAR.buildbin-libdir chromVAR_1.14.0.tar.gz && C:\Users\biocbuild\bbs-3.13-bioc\R\bin\R.exe CMD INSTALL chromVAR_1.14.0.zip && rm chromVAR_1.14.0.tar.gz chromVAR_1.14.0.zip StartedAt: 2021-10-14 10:23:32 -0400 (Thu, 14 Oct 2021) EndedAt: 2021-10-14 10:27:58 -0400 (Thu, 14 Oct 2021) EllapsedTime: 266.4 seconds RetCode: 0 Status: OK