Package: chromstaR Version: 1.18.0 Command: /home/biocbuild/bbs-3.13-bioc/R/bin/R CMD build --keep-empty-dirs --no-resave-data chromstaR StartedAt: 2021-10-14 06:56:46 -0400 (Thu, 14 Oct 2021) EndedAt: 2021-10-14 06:59:25 -0400 (Thu, 14 Oct 2021) EllapsedTime: 158.4 seconds RetCode: 1 Status: ERROR PackageFile: None PackageFileSize: NA