Package: cicero Version: 1.10.1 Command: rm -rf cicero.buildbin-libdir && mkdir cicero.buildbin-libdir && /Users/biocbuild/BBS/utils/build-universal.sh cicero_1.10.1.tar.gz /Library/Frameworks/R.framework/Versions/Current/Resources/bin/R cicero.buildbin-libdir StartedAt: 2021-10-15 01:56:20 -0400 (Fri, 15 Oct 2021) EndedAt: 2021-10-15 01:57:19 -0400 (Fri, 15 Oct 2021) EllapsedTime: 59.5 seconds RetCode: 0 Status: OK PackageFile: cicero_1.10.1.tgz PackageFileSize: 1.714 MiB