Package: cicero Version: 1.10.1 Command: /home/biocbuild/bbs-3.13-bioc/R/bin/R CMD INSTALL cicero StartedAt: 2021-10-14 06:31:52 -0400 (Thu, 14 Oct 2021) EndedAt: 2021-10-14 06:32:40 -0400 (Thu, 14 Oct 2021) EllapsedTime: 47.6 seconds RetCode: 0 Status: OK