Package: cicero Version: 1.10.1 Command: rm -rf cicero.buildbin-libdir && mkdir cicero.buildbin-libdir && C:\Users\biocbuild\bbs-3.13-bioc\R\bin\R.exe CMD INSTALL --merge-multiarch --build --library=cicero.buildbin-libdir cicero_1.10.1.tar.gz StartedAt: 2021-10-15 08:34:03 -0400 (Fri, 15 Oct 2021) EndedAt: 2021-10-15 08:35:17 -0400 (Fri, 15 Oct 2021) EllapsedTime: 73.6 seconds RetCode: 0 Status: OK PackageFile: cicero_1.10.1.zip PackageFileSize: 1.315 MiB