Package: cicero Version: 1.10.1 Command: chmod a+r cicero -R && C:\Users\biocbuild\bbs-3.13-bioc\R\bin\R.exe CMD build --keep-empty-dirs --no-resave-data cicero StartedAt: 2021-10-14 12:48:29 -0400 (Thu, 14 Oct 2021) EndedAt: 2021-10-14 12:50:54 -0400 (Thu, 14 Oct 2021) EllapsedTime: 145.2 seconds RetCode: 0 Status: OK PackageFile: cicero_1.10.1.tar.gz PackageFileSize: 1.053 MiB