Package: clipper Version: 1.32.0 Command: /home/biocbuild/bbs-3.13-bioc/R/bin/R CMD build --keep-empty-dirs --no-resave-data clipper StartedAt: 2021-10-14 06:57:26 -0400 (Thu, 14 Oct 2021) EndedAt: 2021-10-14 06:58:34 -0400 (Thu, 14 Oct 2021) EllapsedTime: 68.4 seconds RetCode: 0 Status: OK PackageFile: clipper_1.32.0.tar.gz PackageFileSize: 970 KiB