git_url: https://git.bioconductor.org/packages/clst git_branch: RELEASE_3_13 git_last_commit: 1ec5f0e git_last_commit_date: 2021-05-19 11:47:32 -0400 (Wed, 19 May 2021) Package: clst Version: 1.40.0 Maintainer: Noah Hoffman MaintainerEmail: ngh2 at uw.edu