Package: clst Version: 1.40.0 Command: rm -rf clst.buildbin-libdir && mkdir clst.buildbin-libdir && /Users/biocbuild/BBS/utils/build-universal.sh clst_1.40.0.tar.gz /Library/Frameworks/R.framework/Versions/Current/Resources/bin/R clst.buildbin-libdir StartedAt: 2021-10-15 01:57:30 -0400 (Fri, 15 Oct 2021) EndedAt: 2021-10-15 01:58:34 -0400 (Fri, 15 Oct 2021) EllapsedTime: 63.6 seconds RetCode: 0 Status: OK PackageFile: clst_1.40.0.tgz PackageFileSize: 1.603 MiB