Package: clst Version: 1.40.0 Command: /Library/Frameworks/R.framework/Versions/Current/Resources/bin/R CMD INSTALL clst StartedAt: 2021-10-14 09:01:57 -0400 (Thu, 14 Oct 2021) EndedAt: 2021-10-14 09:02:57 -0400 (Thu, 14 Oct 2021) EllapsedTime: 59.9 seconds RetCode: 0 Status: OK