Package: clst Version: 1.40.0 Command: /home/biocbuild/bbs-3.13-bioc/R/bin/R CMD INSTALL clst StartedAt: 2021-10-14 06:10:26 -0400 (Thu, 14 Oct 2021) EndedAt: 2021-10-14 06:10:28 -0400 (Thu, 14 Oct 2021) EllapsedTime: 2.4 seconds RetCode: 0 Status: OK