Package: clusterExperiment Version: 2.12.0 Command: rm -rf clusterExperiment.buildbin-libdir && mkdir clusterExperiment.buildbin-libdir && /Users/biocbuild/BBS/utils/build-universal.sh clusterExperiment_2.12.0.tar.gz /Library/Frameworks/R.framework/Versions/Current/Resources/bin/R clusterExperiment.buildbin-libdir StartedAt: 2021-10-15 01:57:52 -0400 (Fri, 15 Oct 2021) EndedAt: 2021-10-15 02:00:05 -0400 (Fri, 15 Oct 2021) EllapsedTime: 133.3 seconds RetCode: 0 Status: OK PackageFile: clusterExperiment_2.12.0.tgz PackageFileSize: 11.36 MiB