Package: clusterExperiment Version: 2.12.0 Command: chmod a+r clusterExperiment -R && C:\Users\biocbuild\bbs-3.13-bioc\R\bin\R.exe CMD build --keep-empty-dirs --no-resave-data clusterExperiment StartedAt: 2021-10-14 12:52:12 -0400 (Thu, 14 Oct 2021) EndedAt: 2021-10-14 13:02:07 -0400 (Thu, 14 Oct 2021) EllapsedTime: 595.1 seconds RetCode: 0 Status: OK PackageFile: clusterExperiment_2.12.0.tar.gz PackageFileSize: 6.956 MiB