Package: clusterProfiler Version: 4.0.5 Command: rm -rf clusterProfiler.buildbin-libdir && mkdir clusterProfiler.buildbin-libdir && /Users/biocbuild/BBS/utils/build-universal.sh clusterProfiler_4.0.5.tar.gz /Library/Frameworks/R.framework/Versions/Current/Resources/bin/R clusterProfiler.buildbin-libdir StartedAt: 2021-10-15 01:58:07 -0400 (Fri, 15 Oct 2021) EndedAt: 2021-10-15 01:59:07 -0400 (Fri, 15 Oct 2021) EllapsedTime: 59.5 seconds RetCode: 0 Status: OK PackageFile: clusterProfiler_4.0.5.tgz PackageFileSize: 698.9 KiB