Package: clusterProfiler Version: 4.0.5 Command: C:\Users\biocbuild\bbs-3.13-bioc\R\bin\R.exe CMD check --force-multiarch --install=check:clusterProfiler.install-out.txt --library=C:\Users\biocbuild\bbs-3.13-bioc\R\library --no-vignettes --timings clusterProfiler_4.0.5.tar.gz StartedAt: 2021-10-14 21:13:32 -0400 (Thu, 14 Oct 2021) EndedAt: 2021-10-14 21:19:26 -0400 (Thu, 14 Oct 2021) EllapsedTime: 353.1 seconds RetCode: 0 Status: OK CheckDir: clusterProfiler.Rcheck Warnings: 0