Package: cn.farms Version: 1.40.0 Command: /Library/Frameworks/R.framework/Versions/Current/Resources/bin/R CMD INSTALL cn.farms StartedAt: 2021-10-14 09:11:16 -0400 (Thu, 14 Oct 2021) EndedAt: 2021-10-14 09:12:05 -0400 (Thu, 14 Oct 2021) EllapsedTime: 48.5 seconds RetCode: 0 Status: OK