Package: cn.mops Version: 1.38.0 Command: /home/biocbuild/bbs-3.13-bioc/R/bin/R CMD build --keep-empty-dirs --no-resave-data cn.mops StartedAt: 2021-10-14 06:58:50 -0400 (Thu, 14 Oct 2021) EndedAt: 2021-10-14 06:59:30 -0400 (Thu, 14 Oct 2021) EllapsedTime: 40.4 seconds RetCode: 0 Status: OK PackageFile: cn.mops_1.38.0.tar.gz PackageFileSize: 949 KiB