Package: cn.mops Version: 1.38.0 Command: /home/biocbuild/bbs-3.13-bioc/R/bin/R CMD INSTALL cn.mops StartedAt: 2021-10-14 06:10:46 -0400 (Thu, 14 Oct 2021) EndedAt: 2021-10-14 06:11:01 -0400 (Thu, 14 Oct 2021) EllapsedTime: 15.1 seconds RetCode: 0 Status: OK