Package: cnvGSA Version: 1.36.0 Command: /Library/Frameworks/R.framework/Versions/Current/Resources/bin/R CMD check --install=check:cnvGSA.install-out.txt --library=/Library/Frameworks/R.framework/Versions/Current/Resources/library --no-vignettes --timings cnvGSA_1.36.0.tar.gz StartedAt: 2021-10-14 17:37:01 -0400 (Thu, 14 Oct 2021) EndedAt: 2021-10-14 17:38:51 -0400 (Thu, 14 Oct 2021) EllapsedTime: 110.0 seconds RetCode: 0 Status: OK CheckDir: cnvGSA.Rcheck Warnings: 0