Package: cnvGSA Version: 1.36.0 Command: /Library/Frameworks/R.framework/Versions/Current/Resources/bin/R CMD INSTALL cnvGSA StartedAt: 2021-10-14 08:30:31 -0400 (Thu, 14 Oct 2021) EndedAt: 2021-10-14 08:31:03 -0400 (Thu, 14 Oct 2021) EllapsedTime: 31.6 seconds RetCode: 0 Status: OK