Package: cnvGSA Version: 1.36.0 Command: /home/biocbuild/bbs-3.13-bioc/R/bin/R CMD INSTALL cnvGSA StartedAt: 2021-10-14 06:07:07 -0400 (Thu, 14 Oct 2021) EndedAt: 2021-10-14 06:07:17 -0400 (Thu, 14 Oct 2021) EllapsedTime: 10.0 seconds RetCode: 0 Status: OK