Package: cnvGSA Version: 1.36.0 Command: rm -rf cnvGSA.buildbin-libdir && mkdir cnvGSA.buildbin-libdir && C:\Users\biocbuild\bbs-3.13-bioc\R\bin\R.exe CMD INSTALL --merge-multiarch --build --library=cnvGSA.buildbin-libdir cnvGSA_1.36.0.tar.gz StartedAt: 2021-10-15 08:39:18 -0400 (Fri, 15 Oct 2021) EndedAt: 2021-10-15 08:40:42 -0400 (Fri, 15 Oct 2021) EllapsedTime: 83.2 seconds RetCode: 0 Status: OK PackageFile: cnvGSA_1.36.0.zip PackageFileSize: 395.9 KiB