Package: cnvGSA Version: 1.36.0 Command: chmod a+r cnvGSA -R && C:\Users\biocbuild\bbs-3.13-bioc\R\bin\R.exe CMD build --keep-empty-dirs --no-resave-data cnvGSA StartedAt: 2021-10-14 12:55:36 -0400 (Thu, 14 Oct 2021) EndedAt: 2021-10-14 12:56:00 -0400 (Thu, 14 Oct 2021) EllapsedTime: 24.4 seconds RetCode: 0 Status: OK PackageFile: cnvGSA_1.36.0.tar.gz PackageFileSize: 277.6 KiB