Package: cnvGSA Version: 1.36.0 Command: C:\Users\biocbuild\bbs-3.13-bioc\R\bin\R.exe CMD check --force-multiarch --install=check:cnvGSA.install-out.txt --library=C:\Users\biocbuild\bbs-3.13-bioc\R\library --no-vignettes --timings cnvGSA_1.36.0.tar.gz StartedAt: 2021-10-14 21:19:52 -0400 (Thu, 14 Oct 2021) EndedAt: 2021-10-14 21:21:40 -0400 (Thu, 14 Oct 2021) EllapsedTime: 107.9 seconds RetCode: 0 Status: OK CheckDir: cnvGSA.Rcheck Warnings: 0