Package: combi Version: 1.4.0 Command: /home/biocbuild/bbs-3.13-bioc/R/bin/R CMD INSTALL combi StartedAt: 2021-10-14 06:15:17 -0400 (Thu, 14 Oct 2021) EndedAt: 2021-10-14 06:15:47 -0400 (Thu, 14 Oct 2021) EllapsedTime: 29.9 seconds RetCode: 0 Status: OK