git_url: https://git.bioconductor.org/packages/compartmap git_branch: RELEASE_3_13 git_last_commit: 4c305de git_last_commit_date: 2021-05-19 12:39:30 -0400 (Wed, 19 May 2021) Package: compartmap Version: 1.10.0 Maintainer: Benjamin Johnson MaintainerEmail: ben.johnson at vai.org