Package: compartmap Version: 1.10.0 Command: /home/biocbuild/bbs-3.13-bioc/R/bin/R CMD INSTALL compartmap StartedAt: 2021-10-14 06:22:29 -0400 (Thu, 14 Oct 2021) EndedAt: 2021-10-14 06:22:54 -0400 (Thu, 14 Oct 2021) EllapsedTime: 25.5 seconds RetCode: 0 Status: OK