Package: consensus Version: 1.10.0 Command: /Library/Frameworks/R.framework/Versions/Current/Resources/bin/R CMD build --keep-empty-dirs --no-resave-data consensus StartedAt: 2021-10-14 11:25:15 -0400 (Thu, 14 Oct 2021) EndedAt: 2021-10-14 11:25:38 -0400 (Thu, 14 Oct 2021) EllapsedTime: 23.1 seconds RetCode: 0 Status: OK PackageFile: consensus_1.10.0.tar.gz PackageFileSize: 963.6 KiB