Package: consensusSeekeR Version: 1.20.0 Command: /Library/Frameworks/R.framework/Versions/Current/Resources/bin/R CMD build --keep-empty-dirs --no-resave-data consensusSeekeR StartedAt: 2021-10-14 11:25:50 -0400 (Thu, 14 Oct 2021) EndedAt: 2021-10-14 11:28:11 -0400 (Thu, 14 Oct 2021) EllapsedTime: 140.5 seconds RetCode: 0 Status: OK PackageFile: consensusSeekeR_1.20.0.tar.gz PackageFileSize: 737.5 KiB