git_url: https://git.bioconductor.org/packages/corral git_branch: RELEASE_3_13 git_last_commit: 1c730af git_last_commit_date: 2021-05-19 12:53:22 -0400 (Wed, 19 May 2021) Package: corral Version: 1.2.0 Maintainer: Lauren Hsu MaintainerEmail: lrnshoe at gmail.com