Package: coseq Version: 1.16.0 Command: /home/biocbuild/bbs-3.13-bioc/R/bin/R CMD INSTALL coseq StartedAt: 2021-10-14 06:22:42 -0400 (Thu, 14 Oct 2021) EndedAt: 2021-10-14 06:23:14 -0400 (Thu, 14 Oct 2021) EllapsedTime: 32.1 seconds RetCode: 0 Status: OK