Package: coseq Version: 1.16.0 Command: C:\cygwin\bin\curl.exe -O http://155.52.207.165/BBS/3.13/bioc/src/contrib/coseq_1.16.0.tar.gz && rm -rf coseq.buildbin-libdir && mkdir coseq.buildbin-libdir && C:\Users\biocbuild\bbs-3.13-bioc\R\bin\R.exe CMD INSTALL --merge-multiarch --build --library=coseq.buildbin-libdir coseq_1.16.0.tar.gz && C:\Users\biocbuild\bbs-3.13-bioc\R\bin\R.exe CMD INSTALL coseq_1.16.0.zip && rm coseq_1.16.0.tar.gz coseq_1.16.0.zip StartedAt: 2021-10-14 09:24:55 -0400 (Thu, 14 Oct 2021) EndedAt: 2021-10-14 09:26:11 -0400 (Thu, 14 Oct 2021) EllapsedTime: 75.7 seconds RetCode: 0 Status: OK